BEGIN:VCALENDAR
VERSION:2.0
PRODID:-//Camden One - ECPv6.15.18//NONSGML v1.0//EN
CALSCALE:GREGORIAN
METHOD:PUBLISH
X-ORIGINAL-URL:https://camdenone.com
X-WR-CALDESC:Events for Camden One
REFRESH-INTERVAL;VALUE=DURATION:PT1H
X-Robots-Tag:noindex
X-PUBLISHED-TTL:PT1H
BEGIN:VTIMEZONE
TZID:America/New_York
BEGIN:DAYLIGHT
TZOFFSETFROM:-0500
TZOFFSETTO:-0400
TZNAME:EDT
DTSTART:20220313T070000
END:DAYLIGHT
BEGIN:STANDARD
TZOFFSETFROM:-0400
TZOFFSETTO:-0500
TZNAME:EST
DTSTART:20221106T060000
END:STANDARD
BEGIN:DAYLIGHT
TZOFFSETFROM:-0500
TZOFFSETTO:-0400
TZNAME:EDT
DTSTART:20230312T070000
END:DAYLIGHT
BEGIN:STANDARD
TZOFFSETFROM:-0400
TZOFFSETTO:-0500
TZNAME:EST
DTSTART:20231105T060000
END:STANDARD
BEGIN:DAYLIGHT
TZOFFSETFROM:-0500
TZOFFSETTO:-0400
TZNAME:EDT
DTSTART:20240310T070000
END:DAYLIGHT
BEGIN:STANDARD
TZOFFSETFROM:-0400
TZOFFSETTO:-0500
TZNAME:EST
DTSTART:20241103T060000
END:STANDARD
BEGIN:DAYLIGHT
TZOFFSETFROM:-0500
TZOFFSETTO:-0400
TZNAME:EDT
DTSTART:20250309T070000
END:DAYLIGHT
BEGIN:STANDARD
TZOFFSETFROM:-0400
TZOFFSETTO:-0500
TZNAME:EST
DTSTART:20251102T060000
END:STANDARD
BEGIN:DAYLIGHT
TZOFFSETFROM:-0500
TZOFFSETTO:-0400
TZNAME:EDT
DTSTART:20260308T070000
END:DAYLIGHT
BEGIN:STANDARD
TZOFFSETFROM:-0400
TZOFFSETTO:-0500
TZNAME:EST
DTSTART:20261101T060000
END:STANDARD
END:VTIMEZONE
BEGIN:VEVENT
DTSTART;TZID=America/New_York:20251016T080000
DTEND;TZID=America/New_York:20251016T120000
DTSTAMP:20260424T183155
CREATED:20251031T202403Z
LAST-MODIFIED:20251031T202403Z
UID:1046-1760601600-1760616000@camdenone.com
SUMMARY:Bulk Waste Collection
DESCRIPTION:Mayor Victor G. Carstarphen & 4th Ward City Councilwoman Jannette Ramos present Bulk Waste Collection. Bring bulk items to Park Blvd. & Kaighns Ave. Prohibited: hazardous waste\, paints\, aerosol sprays\, appliances\, construction debris\, concrete. Accepted: household trash\, furniture\, electronics\, yard debris\, tires. Camden residents only; bring ID. Info: (856) 757-7115 or citycouncil@camdennj.gov.
URL:https://camdenone.com/event/bulk-waste-collection/
CATEGORIES:Community
END:VEVENT
BEGIN:VEVENT
DTSTART;TZID=America/New_York:20230708T140000
DTEND;TZID=America/New_York:20230708T200000
DTSTAMP:20260424T183155
CREATED:20230607T172755Z
LAST-MODIFIED:20230607T172755Z
UID:664-1688824800-1688846400@camdenone.com
SUMMARY:23rd Annual Caribbean Festival
DESCRIPTION:If you’re looking for an exciting cultural event to attend\, then mark your calendars for the 23rd Annual South Jersey Caribbean Festival! This free event is one of the biggest cultural festivals in the area\, featuring music\, food\, vendors\, and dancers from the Caribbean. But this year’s festival is going to be extra special\, as it will feature the musical artist Lyrikal\, who is known for his electrifying performances.
URL:https://camdenone.com/event/23rd-annual-caribbean-festival/
LOCATION:Camden Waterfront\, 2 Riverside Drive\, Camden\, NJ\, 08103\, United States
ATTACH;FMTTYPE=image/jpeg:https://camdenone.com/wp-content/uploads/2023/06/caribbean-festival-jly-8-2023-1.jpg
END:VEVENT
END:VCALENDAR